BEGIN:VCALENDAR
VERSION:2.0
PRODID:-//Hep Free NYC - ECPv6.15.18//NONSGML v1.0//EN
CALSCALE:GREGORIAN
METHOD:PUBLISH
X-ORIGINAL-URL:https://hepfree.nyc
X-WR-CALDESC:Events for Hep Free NYC
REFRESH-INTERVAL;VALUE=DURATION:PT1H
X-Robots-Tag:noindex
X-PUBLISHED-TTL:PT1H
BEGIN:VTIMEZONE
TZID:America/New_York
BEGIN:DAYLIGHT
TZOFFSETFROM:-0500
TZOFFSETTO:-0400
TZNAME:EDT
DTSTART:20240310T070000
END:DAYLIGHT
BEGIN:STANDARD
TZOFFSETFROM:-0400
TZOFFSETTO:-0500
TZNAME:EST
DTSTART:20241103T060000
END:STANDARD
BEGIN:DAYLIGHT
TZOFFSETFROM:-0500
TZOFFSETTO:-0400
TZNAME:EDT
DTSTART:20250309T070000
END:DAYLIGHT
BEGIN:STANDARD
TZOFFSETFROM:-0400
TZOFFSETTO:-0500
TZNAME:EST
DTSTART:20251102T060000
END:STANDARD
BEGIN:DAYLIGHT
TZOFFSETFROM:-0500
TZOFFSETTO:-0400
TZNAME:EDT
DTSTART:20260308T070000
END:DAYLIGHT
BEGIN:STANDARD
TZOFFSETFROM:-0400
TZOFFSETTO:-0500
TZNAME:EST
DTSTART:20261101T060000
END:STANDARD
END:VTIMEZONE
BEGIN:VEVENT
DTSTART;TZID=America/New_York:20251205T080000
DTEND;TZID=America/New_York:20251205T170000
DTSTAMP:20260419T235246
CREATED:20251118T000535Z
LAST-MODIFIED:20251118T001740Z
UID:10077577-1764921600-1764954000@hepfree.nyc
SUMMARY:ACIP Meeting on Hep B Vaccine (CDC)
DESCRIPTION:ACIP Meeting on Hep B Vaccine\n\nFriday\, December 5\, 2025 | 8 AM – 5 PM\nRSVP\n\nDescription:\n\nThe Advisory Committee on Immunization Practices (ACIP) is meeting to deliberate on childhood vaccine recommendations\, including the universal Hep B birth dose recommendation. \nRSVP
URL:https://hepfree.nyc/event/acip-meeting-on-hep-b-vaccine-cdc/
CATEGORIES:Government,Hep B,Vaccination
ATTACH;FMTTYPE=image/png:https://hepfree.nyc/wp-content/uploads/2017/09/CDC-480x270-smaller.png
END:VEVENT
BEGIN:VEVENT
DTSTART;TZID=America/New_York:20250212T130000
DTEND;TZID=America/New_York:20250212T170000
DTSTAMP:20260419T235246
CREATED:20250115T194804Z
LAST-MODIFIED:20250115T194804Z
UID:10077314-1739365200-1739379600@hepfree.nyc
SUMMARY:Establishing a Road Map for Accelerating Hep C Diagnosis and Treatment in the US (Centers for Disease Control and Prevention)
DESCRIPTION:Establishing a Road Map for Accelerating Hep C Diagnosis and Treatment in the US – Part 2\nWednesday\, February 12 | 1 – 5 PM\nRSVP\nDescription:\nThe CDC is hosting a two-day public meeting to discuss Hep C diagnostic\, specifically on how to leverage same-day Hep C diagnosis and treatment\, and viral-first testing. Day 2 will focus on the utility of viral-first testing strategies for accelerating Hep C diagnosis and treatment initiation in the US. \nLeaders from public health\, laboratory\, medical\, academic\, and industry sectors will have the opportunity to provide individual input\, without building consensus\, on accelerating the diagnosis of current Hep C. \nLearn more by visiting regulations.gov in Docket CDC-2025-0002. \nRSVP
URL:https://hepfree.nyc/event/establishing-a-road-map-for-accelerating-hep-c-diagnosis-and-treatment-in-the-us-centers-for-disease-control-and-prevention-2/
LOCATION:Live Webinar Round Table\, NY
CATEGORIES:Education,Hep C,Webinar
ATTACH;FMTTYPE=image/png:https://hepfree.nyc/wp-content/uploads/2017/09/CDC-480x270-smaller.png
GEO:40.7127753;-74.0059728
END:VEVENT
BEGIN:VEVENT
DTSTART;TZID=America/New_York:20250211T130000
DTEND;TZID=America/New_York:20250211T170000
DTSTAMP:20260419T235246
CREATED:20250115T194750Z
LAST-MODIFIED:20250115T194750Z
UID:10077313-1739278800-1739293200@hepfree.nyc
SUMMARY:Establishing a Road Map for Accelerating Hep C Diagnosis and Treatment in the US (Centers for Disease Control and Prevention)
DESCRIPTION:Establishing a Road Map for Accelerating Hep C Diagnosis and Treatment in the US – Part 1\nTuesday\, February 11 | 1 – 5 PM\nRSVP\nDescription:\nThe CDC is hosting a two-day public meeting to discuss Hep C diagnostic\, specifically on how to leverage same-day Hep C diagnosis and treatment\, and viral-first testing. Day 1 will focus on the utility of point-of-care testing accelerating same-day Hep C diagnosis and rapid treatment initiation. \nLeaders from public health\, laboratory\, medical\, academic\, and industry sectors will have the opportunity to provide individual input\, without building consensus\, on accelerating the diagnosis of current Hep C. \nLearn more by visiting regulations.gov in Docket CDC-2025-0002 \nRSVP
URL:https://hepfree.nyc/event/establishing-a-road-map-for-accelerating-hep-c-diagnosis-and-treatment-in-the-us-centers-for-disease-control-and-prevention/
LOCATION:Live Webinar Round Table\, NY
CATEGORIES:Education,Hep C,Webinar
ATTACH;FMTTYPE=image/png:https://hepfree.nyc/wp-content/uploads/2017/09/CDC-480x270-smaller.png
GEO:40.7127753;-74.0059728
END:VEVENT
END:VCALENDAR