BEGIN:VCALENDAR
VERSION:2.0
PRODID:-//Hep Free NYC - ECPv6.15.18//NONSGML v1.0//EN
CALSCALE:GREGORIAN
METHOD:PUBLISH
X-ORIGINAL-URL:https://hepfree.nyc
X-WR-CALDESC:Events for Hep Free NYC
REFRESH-INTERVAL;VALUE=DURATION:PT1H
X-Robots-Tag:noindex
X-PUBLISHED-TTL:PT1H
BEGIN:VTIMEZONE
TZID:America/New_York
BEGIN:DAYLIGHT
TZOFFSETFROM:-0500
TZOFFSETTO:-0400
TZNAME:EDT
DTSTART:20250309T070000
END:DAYLIGHT
BEGIN:STANDARD
TZOFFSETFROM:-0400
TZOFFSETTO:-0500
TZNAME:EST
DTSTART:20251102T060000
END:STANDARD
BEGIN:DAYLIGHT
TZOFFSETFROM:-0500
TZOFFSETTO:-0400
TZNAME:EDT
DTSTART:20260308T070000
END:DAYLIGHT
BEGIN:STANDARD
TZOFFSETFROM:-0400
TZOFFSETTO:-0500
TZNAME:EST
DTSTART:20261101T060000
END:STANDARD
BEGIN:DAYLIGHT
TZOFFSETFROM:-0500
TZOFFSETTO:-0400
TZNAME:EDT
DTSTART:20270314T070000
END:DAYLIGHT
BEGIN:STANDARD
TZOFFSETFROM:-0400
TZOFFSETTO:-0500
TZNAME:EST
DTSTART:20271107T060000
END:STANDARD
END:VTIMEZONE
BEGIN:VEVENT
DTSTART;TZID=America/New_York:20260512T130000
DTEND;TZID=America/New_York:20260512T150000
DTSTAMP:20260423T050330
CREATED:20260422T171857Z
LAST-MODIFIED:20260422T171857Z
UID:10077758-1778590800-1778598000@hepfree.nyc
SUMMARY:Hep C Point-of-Care Testing (NYS Health Dept)
DESCRIPTION:Hep C Point-of-Care Testing\nTuesday\, May 12\, 2026 | 1 – 3 PM\nRSVP\nDescription:\nThe goal of this 90-minute webinar is to provide service providers with the knowledge and practical skills needed to confidently describe the function of the new Cepheid GeneXpert Xpress Hep C test— the first CLIA-waived point-of-care Hep C RNA diagnostic test available in the United States. This webinar will provide service providers with practical strategies to support and engage clients while awaiting test results. This innovative test advances Hep C care by producing RNA results in approximately one hour\, enabling same-visit diagnosis and expediting engagement in treatment and care. \nObjectives:\nBy the end of this webinar\, participants will be able to: \n1. Understand the purpose and benefits of Hep C POC testing.\n2. Review different testing models.\n3. Identify operational and practical considerations when adopting Hep C POC testing.\n4. Support client engagement throughout the testing process.\n5. Interpret and explain POC test results.\n6. Apply best practices for follow-up and related linkages-to-care to services and referrals. \nRSVP
URL:https://hepfree.nyc/event/hep-c-point-of-care-testing-nys-health-dept/
CATEGORIES:Education,Hep C,Training
ATTACH;FMTTYPE=image/jpeg:https://hepfree.nyc/wp-content/uploads/2017/08/AIDS-Institute-2.jpg
END:VEVENT
END:VCALENDAR