BEGIN:VCALENDAR
VERSION:2.0
PRODID:-//Hep Free NYC - ECPv6.15.18//NONSGML v1.0//EN
CALSCALE:GREGORIAN
METHOD:PUBLISH
X-ORIGINAL-URL:https://hepfree.nyc
X-WR-CALDESC:Events for Hep Free NYC
REFRESH-INTERVAL;VALUE=DURATION:PT1H
X-Robots-Tag:noindex
X-PUBLISHED-TTL:PT1H
BEGIN:VTIMEZONE
TZID:America/New_York
BEGIN:DAYLIGHT
TZOFFSETFROM:-0500
TZOFFSETTO:-0400
TZNAME:EDT
DTSTART:20250309T070000
END:DAYLIGHT
BEGIN:STANDARD
TZOFFSETFROM:-0400
TZOFFSETTO:-0500
TZNAME:EST
DTSTART:20251102T060000
END:STANDARD
BEGIN:DAYLIGHT
TZOFFSETFROM:-0500
TZOFFSETTO:-0400
TZNAME:EDT
DTSTART:20260308T070000
END:DAYLIGHT
BEGIN:STANDARD
TZOFFSETFROM:-0400
TZOFFSETTO:-0500
TZNAME:EST
DTSTART:20261101T060000
END:STANDARD
BEGIN:DAYLIGHT
TZOFFSETFROM:-0500
TZOFFSETTO:-0400
TZNAME:EDT
DTSTART:20270314T070000
END:DAYLIGHT
BEGIN:STANDARD
TZOFFSETFROM:-0400
TZOFFSETTO:-0500
TZNAME:EST
DTSTART:20271107T060000
END:STANDARD
END:VTIMEZONE
BEGIN:VEVENT
DTSTART;TZID=America/New_York:20260128T183000
DTEND;TZID=America/New_York:20260128T190000
DTSTAMP:20260421T193418
CREATED:20260119T194655Z
LAST-MODIFIED:20260119T194655Z
UID:10077616-1769625000-1769626800@hepfree.nyc
SUMMARY:NYC Council Discretionary Funding for Arts Organizations (NonProfit Help Desk)
DESCRIPTION:FOR ARTS ORGANIZATIONS: How to apply for NYC Council Discretionary Funding\nWednesday\, January 28\, 2026 | 6:30 – 7:00 PM\nRSVP\nDescription:\nIn this workshop\, learn about NYC Council Discretionary Expense Funding: the application process\, the timeline to receive funding if you are selected\, specifically for arts organizations. The webinar will also walk you through the step-by-step process of how to apply in the portal and provide insights on which initiatives may be a good fit for your organization. \nPresenter:\nTamara Keshecki\, MPP\, MM is the founding principal of AINOK Consulting\, LLC which has secured over $27M for clients since its inception in 2020. \nObjectives:\nAs a result of this webinar\, participants will be able to:\n1. Understand the end-to-end process of NYC Council Discretionary Expense Funding\, including application requirements\, review timelines\, and key milestones.\n2. Gain insight into tracking and managing discretionary awards\, from notification of selection through to contract execution.\n3. Identify common challenges and best practices in navigating the discretionary funding and contracting process effectively. \nRSVP
URL:https://hepfree.nyc/event/nyc-council-discretionary-funding-for-arts-organizations-nonprofit-help-desk/
CATEGORIES:Advocacy,Workshop
ATTACH;FMTTYPE=image/jpeg:https://hepfree.nyc/wp-content/uploads/2025/11/NonProfitHelpDeskLogo.jpg
END:VEVENT
END:VCALENDAR