BEGIN:VCALENDAR
VERSION:2.0
PRODID:-//Hep Free NYC - ECPv6.15.18//NONSGML v1.0//EN
CALSCALE:GREGORIAN
METHOD:PUBLISH
X-WR-CALNAME:Hep Free NYC
X-ORIGINAL-URL:https://hepfree.nyc
X-WR-CALDESC:Events for Hep Free NYC
REFRESH-INTERVAL;VALUE=DURATION:PT1H
X-Robots-Tag:noindex
X-PUBLISHED-TTL:PT1H
BEGIN:VTIMEZONE
TZID:America/New_York
BEGIN:DAYLIGHT
TZOFFSETFROM:-0500
TZOFFSETTO:-0400
TZNAME:EDT
DTSTART:20250309T070000
END:DAYLIGHT
BEGIN:STANDARD
TZOFFSETFROM:-0400
TZOFFSETTO:-0500
TZNAME:EST
DTSTART:20251102T060000
END:STANDARD
BEGIN:DAYLIGHT
TZOFFSETFROM:-0500
TZOFFSETTO:-0400
TZNAME:EDT
DTSTART:20260308T070000
END:DAYLIGHT
BEGIN:STANDARD
TZOFFSETFROM:-0400
TZOFFSETTO:-0500
TZNAME:EST
DTSTART:20261101T060000
END:STANDARD
BEGIN:DAYLIGHT
TZOFFSETFROM:-0500
TZOFFSETTO:-0400
TZNAME:EDT
DTSTART:20270314T070000
END:DAYLIGHT
BEGIN:STANDARD
TZOFFSETFROM:-0400
TZOFFSETTO:-0500
TZNAME:EST
DTSTART:20271107T060000
END:STANDARD
END:VTIMEZONE
BEGIN:VEVENT
DTSTART;TZID=America/New_York:20260123T120000
DTEND;TZID=America/New_York:20260123T130000
DTSTAMP:20260421T193254
CREATED:20260112T170905Z
LAST-MODIFIED:20260112T170905Z
UID:10077615-1769169600-1769173200@hepfree.nyc
SUMMARY:Training | NYC Council Discretionary Capital Funding (NonProfit Help Desk)
DESCRIPTION:NYC Council Discretionary Capital Funding\nFriday\, January 23\, 2026 | 12 – 1 PM\nRSVP\nDescription:\nIn this workshop\, learn about NYC Capital Discretionary Funding: organization and project eligibility\, the application process\, CapGrants portal\, and required application documents. \nPresenter:\nTamara Keshecki\, MPP\, MM is the founding principal of AINOK Consulting\, LLC which has secured over $27M for clients since its inception in 2020. \nObjectives:\nAs a result of this webinar\, participants will learn:\n1. What is NYC Council Discretionary Capital Funding?\n2. Is NYC Council Discretionary Capital Funding a good fit for your organization?\n3. What types of projects are generally eligible for funding? \nRSVP
URL:https://hepfree.nyc/event/training-nyc-council-discretionary-capital-funding-nonprofit-help-desk/
CATEGORIES:Advocacy,Workshop
ATTACH;FMTTYPE=image/jpeg:https://hepfree.nyc/wp-content/uploads/2025/11/NonProfitHelpDeskLogo.jpg
END:VEVENT
END:VCALENDAR