BEGIN:VCALENDAR
VERSION:2.0
PRODID:-//Hep Free NYC - ECPv6.15.18//NONSGML v1.0//EN
CALSCALE:GREGORIAN
METHOD:PUBLISH
X-ORIGINAL-URL:https://hepfree.nyc
X-WR-CALDESC:Events for Hep Free NYC
REFRESH-INTERVAL;VALUE=DURATION:PT1H
X-Robots-Tag:noindex
X-PUBLISHED-TTL:PT1H
BEGIN:VTIMEZONE
TZID:America/New_York
BEGIN:DAYLIGHT
TZOFFSETFROM:-0500
TZOFFSETTO:-0400
TZNAME:EDT
DTSTART:20240310T070000
END:DAYLIGHT
BEGIN:STANDARD
TZOFFSETFROM:-0400
TZOFFSETTO:-0500
TZNAME:EST
DTSTART:20241103T060000
END:STANDARD
BEGIN:DAYLIGHT
TZOFFSETFROM:-0500
TZOFFSETTO:-0400
TZNAME:EDT
DTSTART:20250309T070000
END:DAYLIGHT
BEGIN:STANDARD
TZOFFSETFROM:-0400
TZOFFSETTO:-0500
TZNAME:EST
DTSTART:20251102T060000
END:STANDARD
BEGIN:DAYLIGHT
TZOFFSETFROM:-0500
TZOFFSETTO:-0400
TZNAME:EDT
DTSTART:20260308T070000
END:DAYLIGHT
BEGIN:STANDARD
TZOFFSETFROM:-0400
TZOFFSETTO:-0500
TZNAME:EST
DTSTART:20261101T060000
END:STANDARD
END:VTIMEZONE
BEGIN:VEVENT
DTSTART;VALUE=DATE:20250429
DTEND;VALUE=DATE:20250502
DTSTAMP:20260421T195222
CREATED:20250328T010836Z
LAST-MODIFIED:20250328T010836Z
UID:10077415-1745884800-1746143999@hepfree.nyc
SUMMARY:2025 NaLa Conference
DESCRIPTION:2025 NaLa Conference\nApril 29 – May 1\nLocation: Palms Hotel (4321 W Flamingo Rd\, Las Vegas\, NV 89103)\nRSVP\nDescription:\nThe NaLa Conference aims to create opportunities to share information and efforts around health disparities that negatively impact the Latinx population such as Human immunodeficiency Virus (HIV)\, Hep C and Substance Use Disorder (SUD)\, by bridging the varied disciplines of education\, advocacy\, and clinical care. Thus\, creating better health outcomes for the Latinx population. \nLearning Objectives:\n\nIncrease knowledge\, communication and respectful attitudes regarding HIV\, Hep C\, and SUD among Latino communities.\nDiscuss the cultural and social barriers faced by Latino individuals in seeking/receiving treatment\, care\, and prevention for HIV\, Hep C and SUD.\nRecognize the impact of HIV\, Hep C and SUD among Latino communities when compared to other national populations.\nIdentify culturally tailored medical practices and interventions to Latino patients and populations in order to provide better health.\n\nView agenda here \nRSVP
URL:https://hepfree.nyc/event/2025-nala-conference/
CATEGORIES:Conference,Education,Hep B,Hep C
ATTACH;FMTTYPE=image/png:https://hepfree.nyc/wp-content/uploads/2017/09/Conference-1-1.png
END:VEVENT
BEGIN:VEVENT
DTSTART;VALUE=DATE:20250501
DTEND;VALUE=DATE:20250502
DTSTAMP:20260421T195222
CREATED:20250414T210159Z
LAST-MODIFIED:20250414T210159Z
UID:10077427-1746057600-1746143999@hepfree.nyc
SUMMARY:Hepatitis Awareness Month
DESCRIPTION:May is Hepatitis Awareness Month!\nThis month long observance focuses on raising Hep B and C awareness in the United States. This includes raising awareness of the importance of Hep A and B vaccination\, testing for Hep B and C\, the availability of effective care and curative treatment\, and the serious health consequences resulting from undiagnosed and untreated viral hepatitis.
URL:https://hepfree.nyc/event/hepatitis-awareness-month/
CATEGORIES:Awareness Event
ATTACH;FMTTYPE=image/png:https://hepfree.nyc/wp-content/uploads/2017/08/Awareness-Day-300x170-smaller-1.png
END:VEVENT
BEGIN:VEVENT
DTSTART;TZID=America/New_York:20250501T120000
DTEND;TZID=America/New_York:20250501T130000
DTSTAMP:20260421T195222
CREATED:20250415T145227Z
LAST-MODIFIED:20250415T145632Z
UID:10077429-1746100800-1746104400@hepfree.nyc
SUMMARY:Hepatitis Awareness Month: A Center of Expertise Collaboration (The Family Center)
DESCRIPTION:Hepatitis Awareness Month: A Center of Expertise Collaboration\nThursday\, May 1 | 12 – 1 PM\nRSVP\nDescription:\nThe Family Center (TFC) in collaboration with AIDS Community Resources\, Inc\, (ACR) is hosting a virtual interactive sessions that spotlights and celebrates Hepatitis Awareness Month in May. Education and Training’s two centers of expertise will come together to “Check your knowledge” on all things Hep C and its intersection with drug user health. \nThe goal of this 1-hour webinar is to bring awareness to the topic of Hep C\, support non-clinicals providers in understanding the importance of promoting health among clients as it relates to Hep C\, and educate providers about the importance of linkages to care and reducing potential Hep C transmission. \nBy the end of the webinar participants will be able to:\n\nDisseminate accurate facts about Hep C transmission\, screening\, and treatment\nIdentify and discuss Hep C infection prevention and harm reduction strategies\nBecome familiar with relevant clinical guidelines and resources related to Hep C and Drug User Health\n\nAudience:\nNon-physician health and human services providers including case managers\, social workers\, patient navigators\, and peer workers. \nView flyer here \nRSVP
URL:https://hepfree.nyc/event/hepatitis-awareness-month-a-center-of-expertise-collaboration-the-family-center/
LOCATION:Zoom Webinar\, NY
CATEGORIES:Education,Harm Reduction,Hep C,Training,Webinar
ATTACH;FMTTYPE=image/jpeg:https://hepfree.nyc/wp-content/uploads/2023/02/the-family-center-logo.jpg
END:VEVENT
END:VCALENDAR