BEGIN:VCALENDAR
VERSION:2.0
PRODID:-//Hep Free NYC - ECPv6.15.18//NONSGML v1.0//EN
CALSCALE:GREGORIAN
METHOD:PUBLISH
X-ORIGINAL-URL:https://hepfree.nyc
X-WR-CALDESC:Events for Hep Free NYC
REFRESH-INTERVAL;VALUE=DURATION:PT1H
X-Robots-Tag:noindex
X-PUBLISHED-TTL:PT1H
BEGIN:VTIMEZONE
TZID:America/New_York
BEGIN:DAYLIGHT
TZOFFSETFROM:-0500
TZOFFSETTO:-0400
TZNAME:EDT
DTSTART:20240310T070000
END:DAYLIGHT
BEGIN:STANDARD
TZOFFSETFROM:-0400
TZOFFSETTO:-0500
TZNAME:EST
DTSTART:20241103T060000
END:STANDARD
BEGIN:DAYLIGHT
TZOFFSETFROM:-0500
TZOFFSETTO:-0400
TZNAME:EDT
DTSTART:20250309T070000
END:DAYLIGHT
BEGIN:STANDARD
TZOFFSETFROM:-0400
TZOFFSETTO:-0500
TZNAME:EST
DTSTART:20251102T060000
END:STANDARD
BEGIN:DAYLIGHT
TZOFFSETFROM:-0500
TZOFFSETTO:-0400
TZNAME:EDT
DTSTART:20260308T070000
END:DAYLIGHT
BEGIN:STANDARD
TZOFFSETFROM:-0400
TZOFFSETTO:-0500
TZNAME:EST
DTSTART:20261101T060000
END:STANDARD
END:VTIMEZONE
BEGIN:VEVENT
DTSTART;TZID=America/New_York:20250423T130000
DTEND;TZID=America/New_York:20250423T150000
DTSTAMP:20260419T193023
CREATED:20250407T151950Z
LAST-MODIFIED:20250407T151950Z
UID:10077421-1745413200-1745420400@hepfree.nyc
SUMMARY:Training | From Stigma to Affirmation (NYS Health Dept)
DESCRIPTION:From Stigma to Affirmation\nWednesday\, April 23 | 1 – 3 PM\nRSVP\nDescription:\nThis 2-hour webinar will build skills for providing stigma-free\, affirming services to people living with HIV\, Hep C and people who use drugs. This interactive training will define stigma\, raise awareness about the impact of stigma and provide concrete skills and resources for providing affirming services. \nBy the end of this training\, you will be able to: \n\nDefine different types of stigma;\nIdentify examples of stigmatizing language\, behaviors and institutional practices;\nReflect on the impact of stigma\, both personally and professionally;\nIdentify at least three negative impacts of stigma on access to care\, retention in care and health outcomes for the people you serve\nIdentify the link between stigma\, discrimination and trauma;\nDescribe the principles of trauma-informed care as they relate to providing stigma-free\, affirming services;\nEnter dialogue about moving from a judgement-based mindset to the approach of providing affirming services\n\nIntended Audience:\nAll health and human services providers who work with people living with HIV\, people who are living with Hep C\, people who use drugs\, and people who are lesbian\, gay\, bisexual\, transgender\, and gender non-conforming. \nQuestions? Email rtc.contact@caiglobal.org \nRSVP
URL:https://hepfree.nyc/event/training-from-stigma-to-affirmation-nys-health-dept/
CATEGORIES:Hep B,Hep C,Training
ATTACH;FMTTYPE=image/jpeg:https://hepfree.nyc/wp-content/uploads/2015/03/NYS-DOH.jpg
END:VEVENT
END:VCALENDAR