BEGIN:VCALENDAR
VERSION:2.0
PRODID:-//Hep Free NYC - ECPv6.15.18//NONSGML v1.0//EN
CALSCALE:GREGORIAN
METHOD:PUBLISH
X-ORIGINAL-URL:https://hepfree.nyc
X-WR-CALDESC:Events for Hep Free NYC
REFRESH-INTERVAL;VALUE=DURATION:PT1H
X-Robots-Tag:noindex
X-PUBLISHED-TTL:PT1H
BEGIN:VTIMEZONE
TZID:America/New_York
BEGIN:DAYLIGHT
TZOFFSETFROM:-0500
TZOFFSETTO:-0400
TZNAME:EDT
DTSTART:20240310T070000
END:DAYLIGHT
BEGIN:STANDARD
TZOFFSETFROM:-0400
TZOFFSETTO:-0500
TZNAME:EST
DTSTART:20241103T060000
END:STANDARD
BEGIN:DAYLIGHT
TZOFFSETFROM:-0500
TZOFFSETTO:-0400
TZNAME:EDT
DTSTART:20250309T070000
END:DAYLIGHT
BEGIN:STANDARD
TZOFFSETFROM:-0400
TZOFFSETTO:-0500
TZNAME:EST
DTSTART:20251102T060000
END:STANDARD
BEGIN:DAYLIGHT
TZOFFSETFROM:-0500
TZOFFSETTO:-0400
TZNAME:EDT
DTSTART:20260308T070000
END:DAYLIGHT
BEGIN:STANDARD
TZOFFSETFROM:-0400
TZOFFSETTO:-0500
TZNAME:EST
DTSTART:20261101T060000
END:STANDARD
END:VTIMEZONE
BEGIN:VEVENT
DTSTART;TZID=America/New_York:20250416T080000
DTEND;TZID=America/New_York:20250416T090000
DTSTAMP:20260419T113310
CREATED:20250415T143501Z
LAST-MODIFIED:20250415T143501Z
UID:10077428-1744790400-1744794000@hepfree.nyc
SUMMARY:Breaking the Silence Around Hepatitis Stigma & Discrimination (World Hepatitis Alliance)
DESCRIPTION:Breaking the Silence Around Hepatitis Stigma & Discrimination\nWednesday\, April 16 | 8 – 9 AM\n\nRSVP \nDescription:\nJoin the World Hepatitis Alliance in exploring strategies to breaking the silence around hepatitis stigma and discrimination. \nSpeakers:\n\nMarinela Debu\, President\, Romanian Association for Patients with Liver Diseases (APAH-RO)\nTatjana Reic\, President\, Croatian Society for Liver Diseases ”Hepatos”\nCary James\, Chief Executive\, World Hepatitis Alliance\n\nRSVP
URL:https://hepfree.nyc/event/breaking-the-silence-around-hepatitis-stigma-discrimination-world-hepatitis-alliance/
LOCATION:Zoom Webinar\, NY
CATEGORIES:Education,Hep B,Hep C,Webinar
ATTACH;FMTTYPE=image/png:https://hepfree.nyc/wp-content/uploads/2023/07/download.png
END:VEVENT
BEGIN:VEVENT
DTSTART;TZID=America/New_York:20250416T150000
DTEND;TZID=America/New_York:20250416T160000
DTSTAMP:20260419T113310
CREATED:20250129T190024Z
LAST-MODIFIED:20250129T190024Z
UID:10077296-1744815600-1744819200@hepfree.nyc
SUMMARY:National Task Force on Hep B Discussion Forum
DESCRIPTION:National Task Force on Hep B Discussion Forum \nWednesday\, April 16 | 3 – 4 PM \nRSVP\nDescription:\n\nThe National Task Force on Hep B will be having quarterly meetings in the format of a Discussion Forum to share and discuss the latest news\, critical updates\, and resources relating to Hep B. Meeting notes will continue to be taken and posted on the website. \nMeetings in 2025 will be quarterly on the 3rd Wednesday of the indicated month at 3PM Eastern / 2PM Central / 1PM Mountain / 12PM Pacific / 9AM (or 10AM) Hawaii Time. \nThe National Task Force on Hep B is a grassroots not-for-profit national coalition that brings together clinicians\, healthcare professionals\, service providers\, and patients to discuss news and recommendations for Hep B education\, screening\, testing\, vaccination\, linkage to care\, and treatment. Past Chairs\, co-Chairs\, Officers\, and Regional Directors serve as Advisors to address the common concerns of individuals who are at-risk for hepatitis B across the United States. \nTo join the National Task Force on Hep B\, enroll to their mailing list here \nRSVP
URL:https://hepfree.nyc/event/national-task-force-on-hep-b-discussion-forum-3/
LOCATION:Zoom Meeting
CATEGORIES:Community Meeting,Hep B,Peer Workers,Provider
ATTACH;FMTTYPE=image/jpeg:https://hepfree.nyc/wp-content/uploads/2016/01/National-Task-Force-Hepatitis-B-480x270.jpg
END:VEVENT
END:VCALENDAR