BEGIN:VCALENDAR
VERSION:2.0
PRODID:-//Hep Free NYC - ECPv6.15.18//NONSGML v1.0//EN
CALSCALE:GREGORIAN
METHOD:PUBLISH
X-WR-CALNAME:Hep Free NYC
X-ORIGINAL-URL:https://hepfree.nyc
X-WR-CALDESC:Events for Hep Free NYC
REFRESH-INTERVAL;VALUE=DURATION:PT1H
X-Robots-Tag:noindex
X-PUBLISHED-TTL:PT1H
BEGIN:VTIMEZONE
TZID:America/New_York
BEGIN:DAYLIGHT
TZOFFSETFROM:-0500
TZOFFSETTO:-0400
TZNAME:EDT
DTSTART:20240310T070000
END:DAYLIGHT
BEGIN:STANDARD
TZOFFSETFROM:-0400
TZOFFSETTO:-0500
TZNAME:EST
DTSTART:20241103T060000
END:STANDARD
BEGIN:DAYLIGHT
TZOFFSETFROM:-0500
TZOFFSETTO:-0400
TZNAME:EDT
DTSTART:20250309T070000
END:DAYLIGHT
BEGIN:STANDARD
TZOFFSETFROM:-0400
TZOFFSETTO:-0500
TZNAME:EST
DTSTART:20251102T060000
END:STANDARD
BEGIN:DAYLIGHT
TZOFFSETFROM:-0500
TZOFFSETTO:-0400
TZNAME:EDT
DTSTART:20260308T070000
END:DAYLIGHT
BEGIN:STANDARD
TZOFFSETFROM:-0400
TZOFFSETTO:-0500
TZNAME:EST
DTSTART:20261101T060000
END:STANDARD
END:VTIMEZONE
BEGIN:VEVENT
DTSTART;TZID=America/New_York:20250415T130000
DTEND;TZID=America/New_York:20250415T150000
DTSTAMP:20260419T095128
CREATED:20250311T142752Z
LAST-MODIFIED:20250311T142752Z
UID:10077386-1744722000-1744729200@hepfree.nyc
SUMMARY:Hep C Medical Care & Treatment Update for Peer Workers - Part 2 (NYS Health Dept)
DESCRIPTION:Hep C Medical Care & Treatment Update for Peer Workers – Part 2\nTuesday\, April 15 | 1 – 3 PM\nRSVP\nDescription:\n\nThis is the second webinar in a three-part series for peer workers. The goal of this two-hour webinar is to provide peers with information about the progress made in treatment options for people living with Hep C. Peer workers will increase their awareness of the overall medical care needs of people living with Hep C and practice the skills and knowledge acquired through case studies and interactive discussion. \nObjectives:\n\nDescribe the goals and advantages of Hep C treatment\nRecall basic information about advances in Hep C treatment\nDefine sustained virologic response (SVR)\nIdentify strategies to support clients as they prepare for and engage in Hep C treatment\n\nIntended Audience:\nIndividuals seeking peer worker certification. \n**Peers must participate in all three webinars in the series (Parts 1\, 2\, and 3) to count towards NYS Certified Peer Worker certification. \nRSVP
URL:https://hepfree.nyc/event/hep-c-medical-care-treatment-update-for-peer-workers-part-2-nys-health-dept/
CATEGORIES:Education,Hep B,Hep C,Webinar
ATTACH;FMTTYPE=image/jpeg:https://hepfree.nyc/wp-content/uploads/2016/04/NYS-DOH-480x270.jpg
END:VEVENT
END:VCALENDAR