BEGIN:VCALENDAR
VERSION:2.0
PRODID:-//Hep Free NYC - ECPv6.15.18//NONSGML v1.0//EN
CALSCALE:GREGORIAN
METHOD:PUBLISH
X-WR-CALNAME:Hep Free NYC
X-ORIGINAL-URL:https://hepfree.nyc
X-WR-CALDESC:Events for Hep Free NYC
REFRESH-INTERVAL;VALUE=DURATION:PT1H
X-Robots-Tag:noindex
X-PUBLISHED-TTL:PT1H
BEGIN:VTIMEZONE
TZID:America/New_York
BEGIN:DAYLIGHT
TZOFFSETFROM:-0500
TZOFFSETTO:-0400
TZNAME:EDT
DTSTART:20240310T070000
END:DAYLIGHT
BEGIN:STANDARD
TZOFFSETFROM:-0400
TZOFFSETTO:-0500
TZNAME:EST
DTSTART:20241103T060000
END:STANDARD
BEGIN:DAYLIGHT
TZOFFSETFROM:-0500
TZOFFSETTO:-0400
TZNAME:EDT
DTSTART:20250309T070000
END:DAYLIGHT
BEGIN:STANDARD
TZOFFSETFROM:-0400
TZOFFSETTO:-0500
TZNAME:EST
DTSTART:20251102T060000
END:STANDARD
BEGIN:DAYLIGHT
TZOFFSETFROM:-0500
TZOFFSETTO:-0400
TZNAME:EDT
DTSTART:20260308T070000
END:DAYLIGHT
BEGIN:STANDARD
TZOFFSETFROM:-0400
TZOFFSETTO:-0500
TZNAME:EST
DTSTART:20261101T060000
END:STANDARD
END:VTIMEZONE
BEGIN:VEVENT
DTSTART;TZID=America/New_York:20250325T150000
DTEND;TZID=America/New_York:20250325T160000
DTSTAMP:20260419T204118
CREATED:20250221T195403Z
LAST-MODIFIED:20250221T195403Z
UID:10077363-1742914800-1742918400@hepfree.nyc
SUMMARY:B Informed! (Hep B United)
DESCRIPTION:B Informed!\nTuesday\, March 25  | 3 – 4 PM\nRSVP\nDescription:\nRegister today for B Informed! a Hep B Virtual Education Series geared toward anyone interested in learning more about Hep B including patients\, family members\, community advocates\, health care providers\, public health professionals\, and community members. \nRSVP
URL:https://hepfree.nyc/event/b-informed-hep-b-united/
CATEGORIES:Education,Hep B,Peer Workers,Provider,Webinar
ATTACH;FMTTYPE=image/png:https://hepfree.nyc/wp-content/uploads/2018/04/Hep-B-United-480x270-e1774574907943.png
ORGANIZER;CN="Hep B United":MAILTO:connect@hepbunited.org
END:VEVENT
END:VCALENDAR