BEGIN:VCALENDAR
VERSION:2.0
PRODID:-//Hep Free NYC - ECPv6.15.18//NONSGML v1.0//EN
CALSCALE:GREGORIAN
METHOD:PUBLISH
X-ORIGINAL-URL:https://hepfree.nyc
X-WR-CALDESC:Events for Hep Free NYC
REFRESH-INTERVAL;VALUE=DURATION:PT1H
X-Robots-Tag:noindex
X-PUBLISHED-TTL:PT1H
BEGIN:VTIMEZONE
TZID:America/New_York
BEGIN:DAYLIGHT
TZOFFSETFROM:-0500
TZOFFSETTO:-0400
TZNAME:EDT
DTSTART:20240310T070000
END:DAYLIGHT
BEGIN:STANDARD
TZOFFSETFROM:-0400
TZOFFSETTO:-0500
TZNAME:EST
DTSTART:20241103T060000
END:STANDARD
BEGIN:DAYLIGHT
TZOFFSETFROM:-0500
TZOFFSETTO:-0400
TZNAME:EDT
DTSTART:20250309T070000
END:DAYLIGHT
BEGIN:STANDARD
TZOFFSETFROM:-0400
TZOFFSETTO:-0500
TZNAME:EST
DTSTART:20251102T060000
END:STANDARD
BEGIN:DAYLIGHT
TZOFFSETFROM:-0500
TZOFFSETTO:-0400
TZNAME:EDT
DTSTART:20260308T070000
END:DAYLIGHT
BEGIN:STANDARD
TZOFFSETFROM:-0400
TZOFFSETTO:-0500
TZNAME:EST
DTSTART:20261101T060000
END:STANDARD
END:VTIMEZONE
BEGIN:VEVENT
DTSTART;TZID=America/New_York:20250324T100000
DTEND;TZID=America/New_York:20250324T140000
DTSTAMP:20260419T221636
CREATED:20250211T152940Z
LAST-MODIFIED:20250213T143515Z
UID:10077354-1742810400-1742824800@hepfree.nyc
SUMMARY:NYC Council Committee on Health Hearing
DESCRIPTION:NYC Council Committee on Health Hearing\nMonday\, March 24 | 10 AM\nWhere: Council Chamber – City Hall\nDescription:\nNew York City Council Budget and Oversight Hearings on The Preliminary Budget for Fiscal Year 2026\, The Preliminary Capital Plan for Fiscal Years 2026-2029 and The Fiscal 2025 Preliminary Mayor’s Management Report. \n10 AM Department of Health and Mental Hygiene\n12:30 PM Medical Examiner\n1:30  PM Public
URL:https://hepfree.nyc/event/nyc-council-health-hearing/
CATEGORIES:Advocacy,Hep B,Hep C
ATTACH;FMTTYPE=image/png:https://hepfree.nyc/wp-content/uploads/2014/01/NYC-City-Council-Logo.png
END:VEVENT
END:VCALENDAR