BEGIN:VCALENDAR
VERSION:2.0
PRODID:-//Hep Free NYC - ECPv6.15.18//NONSGML v1.0//EN
CALSCALE:GREGORIAN
METHOD:PUBLISH
X-ORIGINAL-URL:https://hepfree.nyc
X-WR-CALDESC:Events for Hep Free NYC
REFRESH-INTERVAL;VALUE=DURATION:PT1H
X-Robots-Tag:noindex
X-PUBLISHED-TTL:PT1H
BEGIN:VTIMEZONE
TZID:America/New_York
BEGIN:DAYLIGHT
TZOFFSETFROM:-0500
TZOFFSETTO:-0400
TZNAME:EDT
DTSTART:20240310T070000
END:DAYLIGHT
BEGIN:STANDARD
TZOFFSETFROM:-0400
TZOFFSETTO:-0500
TZNAME:EST
DTSTART:20241103T060000
END:STANDARD
BEGIN:DAYLIGHT
TZOFFSETFROM:-0500
TZOFFSETTO:-0400
TZNAME:EDT
DTSTART:20250309T070000
END:DAYLIGHT
BEGIN:STANDARD
TZOFFSETFROM:-0400
TZOFFSETTO:-0500
TZNAME:EST
DTSTART:20251102T060000
END:STANDARD
BEGIN:DAYLIGHT
TZOFFSETFROM:-0500
TZOFFSETTO:-0400
TZNAME:EDT
DTSTART:20260308T070000
END:DAYLIGHT
BEGIN:STANDARD
TZOFFSETFROM:-0400
TZOFFSETTO:-0500
TZNAME:EST
DTSTART:20261101T060000
END:STANDARD
END:VTIMEZONE
BEGIN:VEVENT
DTSTART;VALUE=DATE:20250318
DTEND;VALUE=DATE:20250322
DTSTAMP:20260420T063602
CREATED:20250317T204929Z
LAST-MODIFIED:20250317T204929Z
UID:10077399-1742256000-1742601599@hepfree.nyc
SUMMARY:Conference | Global Hepatitis Summit 2025
DESCRIPTION:Global Hepatitis Summit 2025\nTuesday\, March 18 – Friday\, March 21\nLocation: The Westin Bonaventure Hotel & Suites\, Los Angeles\, CA\nRSVP\nDescription:\nThe Global Hepatitis Summit (GHS) 2025 faculty has been carefully selected to achieve the global diversity and gender balance that is reflective of our scientific community today. GHS 2025 will feature the latest developments in viral hepatitis\, along three distinct tracks basic/translational\, clinical\, and public health. 2025 has been designated by the WHO as a milestone year to assess progress towards the 2030 goals to eliminate Hep C and Hep B. Accordingly\, GHS 2025 will be taking stock of progress to date while looking ahead towards research\, clinical care\, and public health interventions needed to achieve global goals to eliminate hepatitis. \nGHS 2025 will be as much a networking event as a cutting-edge research conference\, featuring dedicated tracks for health practitioners and inspiring workshops for those working in the liver and hepatitis space\, where renown speakers will highlight the most exciting recent results in the field and provide perspectives for research and patient management. \nView agenda here \nRSVP
URL:https://hepfree.nyc/event/conference-global-hepatitis-summit-2025/
CATEGORIES:Conference,Education,Hep B,Hep C
ATTACH;FMTTYPE=image/png:https://hepfree.nyc/wp-content/uploads/2017/09/Conference-1-1.png
END:VEVENT
BEGIN:VEVENT
DTSTART;TZID=America/New_York:20250319T140000
DTEND;TZID=America/New_York:20250319T160000
DTSTAMP:20260420T063602
CREATED:20250210T191158Z
LAST-MODIFIED:20250210T191513Z
UID:10077351-1742392800-1742400000@hepfree.nyc
SUMMARY:NYC Hep B Coalition Meeting (Hep Free NYC)
DESCRIPTION:You are invited!\nHep B Coalition Meeting\nMarch 19\, 2025 (2 – 4 PM) \nAll are welcome! Invite your colleagues!\nThis meeting will be held online. RSVP is required. \nAgenda to follow. \nQuestions or comments? Email news@hepfree.nyc
URL:https://hepfree.nyc/event/nyc-hep-b-coalition-meeting-hep-free-nyc-2/
LOCATION:Zoom Webinar\, NY
CATEGORIES:Community Meeting,Hep B
ATTACH;FMTTYPE=image/png:https://hepfree.nyc/wp-content/uploads/2017/07/Hep-B-Coalaition-300.png
END:VEVENT
END:VCALENDAR