BEGIN:VCALENDAR
VERSION:2.0
PRODID:-//Hep Free NYC - ECPv6.15.18//NONSGML v1.0//EN
CALSCALE:GREGORIAN
METHOD:PUBLISH
X-WR-CALNAME:Hep Free NYC
X-ORIGINAL-URL:https://hepfree.nyc
X-WR-CALDESC:Events for Hep Free NYC
REFRESH-INTERVAL;VALUE=DURATION:PT1H
X-Robots-Tag:noindex
X-PUBLISHED-TTL:PT1H
BEGIN:VTIMEZONE
TZID:America/New_York
BEGIN:DAYLIGHT
TZOFFSETFROM:-0500
TZOFFSETTO:-0400
TZNAME:EDT
DTSTART:20240310T070000
END:DAYLIGHT
BEGIN:STANDARD
TZOFFSETFROM:-0400
TZOFFSETTO:-0500
TZNAME:EST
DTSTART:20241103T060000
END:STANDARD
BEGIN:DAYLIGHT
TZOFFSETFROM:-0500
TZOFFSETTO:-0400
TZNAME:EDT
DTSTART:20250309T070000
END:DAYLIGHT
BEGIN:STANDARD
TZOFFSETFROM:-0400
TZOFFSETTO:-0500
TZNAME:EST
DTSTART:20251102T060000
END:STANDARD
BEGIN:DAYLIGHT
TZOFFSETFROM:-0500
TZOFFSETTO:-0400
TZNAME:EDT
DTSTART:20260308T070000
END:DAYLIGHT
BEGIN:STANDARD
TZOFFSETFROM:-0400
TZOFFSETTO:-0500
TZNAME:EST
DTSTART:20261101T060000
END:STANDARD
END:VTIMEZONE
BEGIN:VEVENT
DTSTART;TZID=America/New_York:20250311T100000
DTEND;TZID=America/New_York:20250311T110000
DTSTAMP:20260420T195733
CREATED:20250228T193026Z
LAST-MODIFIED:20250228T193026Z
UID:10077375-1741687200-1741690800@hepfree.nyc
SUMMARY:Training | Overdose Prevention & Response with Naloxone (NYC Health Dept)
DESCRIPTION:Overdose Prevention & Response with Naloxone\nTuesday\, March 11 | 10 – 11 AM\nRSVP\nDescription:\nThis virtual training will teach you how to recognize and respond to an opioid overdose using naloxone and provide information on how to access free naloxone. \nThe training runs for approximately one hour and kits can be mailed to attendees upon request following the training. \nPlease note: Kits can only be mailed to addresses within the five boroughs of New York City. \nTo access kits outside of NYC\, please visit here. \nOnce you have registered for the training\, you will receive a few follow-up emails from NYC Health Department via Zoom: \n\nImmediately after you register: Registration confirmation email with log-in information\nOne (1) day and one (1) hour before the training: Training reminder emails\n\nIf it is the day before the training and you did not receive an email with the Zoom log-in information\, you should reach out to us at naloxone@health.nyc.gov. Please check your spam folder before reaching out\, as emails from NYC Health Department may have mistakenly sorted into your spam folder. \nPlease note: Organizations may register key staff members to be trained\, but no more than two naloxone kits will be issued per organization (individuals may still get their own kit for personal use if they would like). \nPlease do not share the link as seats are limited and log-in information is unique to the registrant. \nOpioid Overdose Prevention Program (OOPP) Staff: If your organization is a registered OOPP and you would like to be trained in DISPENSING naloxone\, this is not the right training to take. Please contact us by emailing naloxone@health.nyc.gov to receive the Training of Dispensers (TOD) calendar. \nRSVP
URL:https://hepfree.nyc/event/training-overdose-prevention-response-with-naloxone-nyc-health-dept-13/
LOCATION:Zoom Webinar\, NY
CATEGORIES:Education,Harm Reduction,Training
ATTACH;FMTTYPE=image/jpeg:https://hepfree.nyc/wp-content/uploads/2021/01/Save-A-Life-Carry-Naloxone-e1609805328672.jpg
ORGANIZER;CN="NYC Department of Health":MAILTO:cdavidson1@health.nyc.gov
END:VEVENT
BEGIN:VEVENT
DTSTART;TZID=America/New_York:20250311T100000
DTEND;TZID=America/New_York:20250311T113000
DTSTAMP:20260420T195734
CREATED:20250211T151529Z
LAST-MODIFIED:20250211T151529Z
UID:10077353-1741687200-1741692600@hepfree.nyc
SUMMARY:NYC Council Educational Briefing on Viral Hepatitis (Hep Free NYC)
DESCRIPTION:NYC Council Educational Briefing on Viral Hepatitis\nTuesday\, March 11 | 10 – 11:30 AM\nEmail Meg Chappell\, if you are a City Council funding recipient interested in attending.
URL:https://hepfree.nyc/event/nyc-council-educational-briefing-on-viral-hepatitis-hep-free-nyc/
CATEGORIES:Advocacy,Hep B,Hep C
ATTACH;FMTTYPE=image/png:https://hepfree.nyc/wp-content/uploads/2017/07/Hep-Free-NYC-logo-360x297.png
END:VEVENT
BEGIN:VEVENT
DTSTART;TZID=America/New_York:20250311T100000
DTEND;TZID=America/New_York:20250311T120000
DTSTAMP:20260420T195734
CREATED:20250228T161656Z
LAST-MODIFIED:20250228T161923Z
UID:10077371-1741687200-1741694400@hepfree.nyc
SUMMARY:Health Literacy in HIV\, STI & Viral Hepatitis in Patient Care (NYS Health Dept)
DESCRIPTION:Health Literacy in HIV\, STI & Viral Hepatitis in Patient Care \nTuesday\, March 11 | 10 AM – 12 PM\nRSVP\nDescription:\n\nThis 1.5-hour webinar will provide health and human services providers an overview of health literacy and give participants the opportunity to develop skills utilizing health literacy universal precautions to clearly communicate with patients or clients. At the completion of this training\, participants will be able to apply two health literacy strategies\, plain language\, and the teach-back method\, to their work. \nObjectives:\nBy the end of this webinar\, participants will be able to: \n\nDefine health literacy.\nRecognize the health literacy disconnect in healthcare and how this affects patients and the public.\nDevelop plain language and teach-back facilitation skills.\nIdentify common concerns and challenges associated with incorporating plain language and teach-back methods with all patients.\nApply two health literacy universal precautions and plain language to their work.\nApply the teach-back method to improve communication and patient understanding.\n\nIntended Audience:\nThis webinar is intended for health and human service providers and peer workers. \nQuestions? Email rtc.contact@caiglobal.org \nRSVP
URL:https://hepfree.nyc/event/health-literacy-in-hiv-sti-viral-hepatitis-in-patient-care-nys-health-dept-2/
CATEGORIES:Education,Hep B,Hep C,Webinar
ATTACH;FMTTYPE=image/jpeg:https://hepfree.nyc/wp-content/uploads/2016/04/NYS-DOH-480x270.jpg
END:VEVENT
BEGIN:VEVENT
DTSTART;TZID=America/New_York:20250311T150000
DTEND;TZID=America/New_York:20250311T160000
DTSTAMP:20260420T195734
CREATED:20250303T145327Z
LAST-MODIFIED:20250307T145937Z
UID:10077380-1741705200-1741708800@hepfree.nyc
SUMMARY:Preventing Liver Cancer from Birth with the Hep B Vaccine: Understanding the Science & Data (Hep B Foundation)
DESCRIPTION:Preventing Liver Cancer from Birth with the Hep B Vaccine: Understanding the Science & Data\nTuesday\, March 11 | 3 – 4 PM\nRSVP\nDescription:\nJoin Hep B Foundation and NVHR for a 2-part webinar discussing how we can prevent liver cancer through vaccination. In part one\, panelists will discuss the importance of the Hep B birth dose\, preventing mother-to-child transmission\, and the impact of Hep B before the universal infant recommendation. In part two\, panelists will discuss how to speak about vaccines in the current landscape. \nSpeakers:\nCalvin Pan\, MD\, NYU School of Medicine \nBrian McMahon\, MD\, Alaska Native Tribal Health Consortium \nRSVP
URL:https://hepfree.nyc/event/preventing-liver-cancer-from-birth-with-the-hep-b-vaccine-understanding-the-science-data-hep-b-foundation/
LOCATION:Zoom Meeting
CATEGORIES:Education,Hep B,Webinar
ATTACH;FMTTYPE=image/jpeg:https://hepfree.nyc/wp-content/uploads/2015/03/Hepatitis-B-Foundation-featured.jpg
END:VEVENT
END:VCALENDAR