BEGIN:VCALENDAR
VERSION:2.0
PRODID:-//Hep Free NYC - ECPv6.15.18//NONSGML v1.0//EN
CALSCALE:GREGORIAN
METHOD:PUBLISH
X-ORIGINAL-URL:https://hepfree.nyc
X-WR-CALDESC:Events for Hep Free NYC
REFRESH-INTERVAL;VALUE=DURATION:PT1H
X-Robots-Tag:noindex
X-PUBLISHED-TTL:PT1H
BEGIN:VTIMEZONE
TZID:America/New_York
BEGIN:DAYLIGHT
TZOFFSETFROM:-0500
TZOFFSETTO:-0400
TZNAME:EDT
DTSTART:20240310T070000
END:DAYLIGHT
BEGIN:STANDARD
TZOFFSETFROM:-0400
TZOFFSETTO:-0500
TZNAME:EST
DTSTART:20241103T060000
END:STANDARD
BEGIN:DAYLIGHT
TZOFFSETFROM:-0500
TZOFFSETTO:-0400
TZNAME:EDT
DTSTART:20250309T070000
END:DAYLIGHT
BEGIN:STANDARD
TZOFFSETFROM:-0400
TZOFFSETTO:-0500
TZNAME:EST
DTSTART:20251102T060000
END:STANDARD
BEGIN:DAYLIGHT
TZOFFSETFROM:-0500
TZOFFSETTO:-0400
TZNAME:EDT
DTSTART:20260308T070000
END:DAYLIGHT
BEGIN:STANDARD
TZOFFSETFROM:-0400
TZOFFSETTO:-0500
TZNAME:EST
DTSTART:20261101T060000
END:STANDARD
END:VTIMEZONE
BEGIN:VEVENT
DTSTART;TZID=America/New_York:20250227T120000
DTEND;TZID=America/New_York:20250227T130000
DTSTAMP:20260424T044218
CREATED:20250221T201028Z
LAST-MODIFIED:20250221T201028Z
UID:10077367-1740657600-1740661200@hepfree.nyc
SUMMARY:Navigating Hep C Treatment for Women Who Inject Drugs: A multidisciplinary perspective (NYS Health Dept)
DESCRIPTION:Navigating Hep C Treatment for Women Who Inject Drugs: A multidisciplinary perspective\nThursday\, February 27 | 12 – 1 PM\nRSVP\nDescription:\nInjection drug use is the most commonly reported risk factor among new Hep C infections\, however\, people who inject drugs are less likely to be treated for this curable disease\, especially women. Several studies show women\, including those who inject drugs\, are less likely to initiate treatment than men. Women who inject drugs may experience compounding challenges when accessing Hep C services\, including but not limited to stigma\, child caring responsibilities\, and lack of research dedicated to the experiences of women with Hep C (including pregnant people). Join this panel discussion on the benefits of\, barriers to\, and best practices for engaging women in Hep C services. \nPanelists:\nAshley Magnussen\,Greenwich House\nDr. Anthony Martinez\, Erie County Medical Center\nMary Raiti\, Whitney M. Young Jr. Health Center \nRSVP
URL:https://hepfree.nyc/event/navigating-hep-c-treatment-for-women-who-inject-drugs-a-multidisciplinary-perspective-nys-health-dept/
CATEGORIES:Education,Hep C,Training
ATTACH;FMTTYPE=image/jpeg:https://hepfree.nyc/wp-content/uploads/2016/04/NYS-DOH-480x270.jpg
END:VEVENT
BEGIN:VEVENT
DTSTART;TZID=America/New_York:20250227T150000
DTEND;TZID=America/New_York:20250227T160000
DTSTAMP:20260424T044218
CREATED:20250129T172152Z
LAST-MODIFIED:20250129T172152Z
UID:10077301-1740668400-1740672000@hepfree.nyc
SUMMARY:Viral Hepatitis Diagnostics Working Group Call (National Viral Hepatitis Roundtable)
DESCRIPTION:Viral Hepatitis Diagnostics Working Group Call\nThursday\, February 27 | 3 – 4 PM\nEmail Adrienne Simon to RSVP\nPurpose:\nAdvocate for accessible\, affordable\, effective\, and rapid viral hepatitis diagnostics\, that most closely meet communities where they are\, in pursuit of viral hepatitis elimination. \nBring the voice of people with lived experience to the table in developing strategies\, activities\, and tactics to achieve our advocacy goals. \nMembership:\nThe Working Group is coordinated by the National Viral Hepatitis Roundtable (NVHR). The Working Group is composed of advocates\, clinicians\, community-based organizations\, people with lived experience\, and researchers. Membership is open to anyone from these communities who are committed to advancing the Working Group’s goals. \nTo join the Working Group\, email Adrienne Simmons (adrienne@nvhr.org). After joining\, members will be added to a Google Group (hepdiagnostics@googlegroups.com) and receive a calendar invite\, as well as access to a Google Drive. \nMeeting Schedule:\nThe Working Group meets monthly via Zoom on the 4th Thursday at 3:00 pm Eastern. All Working Group members are encouraged to participate in as many meetings as possible. Notes are provided for those unable to attend.
URL:https://hepfree.nyc/event/viral-hepatitis-diagnostics-working-group-call-national-viral-hepatitis-roundtable-2/
LOCATION:Zoom Meeting
CATEGORIES:Committee Meeting,Hep B,Hep C,Peer Workers,Provider
ATTACH;FMTTYPE=image/webp:https://hepfree.nyc/wp-content/uploads/2022/06/NVHR-Featured.webp
ORGANIZER;CN="National Viral Hepatitis Roundtable":MAILTO:info@nvhr.org
END:VEVENT
END:VCALENDAR