BEGIN:VCALENDAR
VERSION:2.0
PRODID:-//Hep Free NYC - ECPv6.15.18//NONSGML v1.0//EN
CALSCALE:GREGORIAN
METHOD:PUBLISH
X-WR-CALNAME:Hep Free NYC
X-ORIGINAL-URL:https://hepfree.nyc
X-WR-CALDESC:Events for Hep Free NYC
REFRESH-INTERVAL;VALUE=DURATION:PT1H
X-Robots-Tag:noindex
X-PUBLISHED-TTL:PT1H
BEGIN:VTIMEZONE
TZID:America/New_York
BEGIN:DAYLIGHT
TZOFFSETFROM:-0500
TZOFFSETTO:-0400
TZNAME:EDT
DTSTART:20240310T070000
END:DAYLIGHT
BEGIN:STANDARD
TZOFFSETFROM:-0400
TZOFFSETTO:-0500
TZNAME:EST
DTSTART:20241103T060000
END:STANDARD
BEGIN:DAYLIGHT
TZOFFSETFROM:-0500
TZOFFSETTO:-0400
TZNAME:EDT
DTSTART:20250309T070000
END:DAYLIGHT
BEGIN:STANDARD
TZOFFSETFROM:-0400
TZOFFSETTO:-0500
TZNAME:EST
DTSTART:20251102T060000
END:STANDARD
BEGIN:DAYLIGHT
TZOFFSETFROM:-0500
TZOFFSETTO:-0400
TZNAME:EDT
DTSTART:20260308T070000
END:DAYLIGHT
BEGIN:STANDARD
TZOFFSETFROM:-0400
TZOFFSETTO:-0500
TZNAME:EST
DTSTART:20261101T060000
END:STANDARD
END:VTIMEZONE
BEGIN:VEVENT
DTSTART;TZID=America/New_York:20250225T150000
DTEND;TZID=America/New_York:20250225T160000
DTSTAMP:20260424T044056
CREATED:20250206T113003Z
LAST-MODIFIED:20250207T155904Z
UID:10077327-1740495600-1740499200@hepfree.nyc
SUMMARY:Machine-Learning Algorithms for Early Detection of Hepatocellular Carcinoma (Hep B Foundation)
DESCRIPTION:Machine-Learning Algorithms for Early Detection of Hepatocellular Carcinoma\nTuesday\, February 25 | 3 –  4 PM\nRSVP\nDescription:\nJoin this Hep B Foundation webinar for Cancer Awareness Month! Hear from Dr. Anand Mehta\, who will present some findings outlined in a recent paper highlighting the development and application of a new biomarker platform that can contribute to the detection of hepatocellular carcinoma (HCC) while the disease is still in its earliest stages and is more treatable and less deadly. Join to learn more about this cutting-edge work and its widespread implications! \nRSVP
URL:https://hepfree.nyc/event/machine-learning-algorithms-for-early-detection-of-hepatocellular-carcinoma-hep-b-foundation/
LOCATION:Zoom Meeting
CATEGORIES:Education,Hep B,Webinar
ATTACH;FMTTYPE=image/jpeg:https://hepfree.nyc/wp-content/uploads/2015/03/Hepatitis-B-Foundation-featured.jpg
END:VEVENT
BEGIN:VEVENT
DTSTART;TZID=America/New_York:20250225T180000
DTEND;TZID=America/New_York:20250225T190000
DTSTAMP:20260424T044056
CREATED:20250129T174043Z
LAST-MODIFIED:20250129T174043Z
UID:10077312-1740506400-1740510000@hepfree.nyc
SUMMARY:Training | Overdose Prevention & Response with Naloxone (NYC Health Dept)
DESCRIPTION:Overdose Prevention & Response with Naloxone\nTuesday\, February 25 | 6 – 7 PM\nRSVP\nDescription:\nThis virtual training will teach you how to recognize and respond to an opioid overdose using naloxone and provide information on how to access free naloxone. \nThe training runs for approximately one hour and kits can be mailed to attendees upon request following the training. \nPlease note: Kits can only be mailed to addresses within the five boroughs of New York City. \nTo access kits outside of NYC\, please visit here. \nOnce you have registered for the training\, you will receive a few follow-up emails from NYC Health Department via Zoom: \n\nImmediately after you register: Registration confirmation email with log-in information\nOne (1) day and one (1) hour before the training: Training reminder emails\n\nIf it is the day before the training and you did not receive an email with the Zoom log-in information\, you should reach out to us at naloxone@health.nyc.gov. Please check your spam folder before reaching out\, as emails from NYC Health Department may have mistakenly sorted into your spam folder. \nPlease note: Organizations may register key staff members to be trained\, but no more than two naloxone kits will be issued per organization (individuals may still get their own kit for personal use if they would like). \nPlease do not share the link as seats are limited and log-in information is unique to the registrant. \nOpioid Overdose Prevention Program (OOPP) Staff: If your organization is a registered OOPP and you would like to be trained in DISPENSING naloxone\, this is not the right training to take. Please contact us by emailing naloxone@health.nyc.gov to receive the Training of Dispensers (TOD) calendar. \nRSVP
URL:https://hepfree.nyc/event/training-overdose-prevention-response-with-naloxone-nyc-health-dept-12/
LOCATION:Zoom Webinar\, NY
CATEGORIES:Education,Harm Reduction,Training
ATTACH;FMTTYPE=image/jpeg:https://hepfree.nyc/wp-content/uploads/2021/01/Save-A-Life-Carry-Naloxone-e1609805328672.jpg
ORGANIZER;CN="NYC Department of Health":MAILTO:cdavidson1@health.nyc.gov
END:VEVENT
END:VCALENDAR